BEGIN:VCALENDAR
VERSION:2.0
PRODID:-//Geschichtswerkstatt Barmbek, Geschichte lebendig erleben. - ECPv6.15.20//NONSGML v1.0//EN
CALSCALE:GREGORIAN
METHOD:PUBLISH
X-WR-CALNAME:Geschichtswerkstatt Barmbek, Geschichte lebendig erleben.
X-ORIGINAL-URL:https://geschichtswerkstatt-barmbek.de
X-WR-CALDESC:Veranstaltungen für Geschichtswerkstatt Barmbek, Geschichte lebendig erleben.
REFRESH-INTERVAL;VALUE=DURATION:PT1H
X-Robots-Tag:noindex
X-PUBLISHED-TTL:PT1H
BEGIN:VTIMEZONE
TZID:Europe/Berlin
BEGIN:DAYLIGHT
TZOFFSETFROM:+0100
TZOFFSETTO:+0200
TZNAME:CEST
DTSTART:20250330T010000
END:DAYLIGHT
BEGIN:STANDARD
TZOFFSETFROM:+0200
TZOFFSETTO:+0100
TZNAME:CET
DTSTART:20251026T010000
END:STANDARD
BEGIN:DAYLIGHT
TZOFFSETFROM:+0100
TZOFFSETTO:+0200
TZNAME:CEST
DTSTART:20260329T010000
END:DAYLIGHT
BEGIN:STANDARD
TZOFFSETFROM:+0200
TZOFFSETTO:+0100
TZNAME:CET
DTSTART:20261025T010000
END:STANDARD
BEGIN:DAYLIGHT
TZOFFSETFROM:+0100
TZOFFSETTO:+0200
TZNAME:CEST
DTSTART:20270328T010000
END:DAYLIGHT
BEGIN:STANDARD
TZOFFSETFROM:+0200
TZOFFSETTO:+0100
TZNAME:CET
DTSTART:20271031T010000
END:STANDARD
END:VTIMEZONE
BEGIN:VEVENT
DTSTART;TZID=Europe/Berlin:20260411T140000
DTEND;TZID=Europe/Berlin:20260411T160000
DTSTAMP:20260423T122759
CREATED:20251216T153947Z
LAST-MODIFIED:20260110T155019Z
UID:21811-1775916000-1775923200@geschichtswerkstatt-barmbek.de
SUMMARY:Auf den Spuren der Bertinis
DESCRIPTION:Auf den Spuren der Bertinis\nEin literarischer Spaziergang\nRundgang mit Michael Grill\n\nRalph Giordano schrieb mit seinem epochalen Werk „Bertinis“ nicht nur seine Familiengeschichte in literarischer Form\, sondern auch ein Stadteilportrait von Barmbek. Manche nennen es den Hamburger „Alexanderplatz“.\nDer literarische Spaziergang folgt dem Roman „Die Bertinis“ durch den Stadtteil Barmbek zwischen 1925 und 1945.\nWir gehen Wege nach und suchen Schauplätze auf\, die zum Lebensumfeld der Bertinis gehörten und ihren Alltag immer enger und lebensbedrohlicher werden ließen. Darüber hinaus schauen wir auf Milieus\, Zeitumstände und Menschen die Barmbek in der Zeit der Weimarer Republik und des Faschismus prägten. \n5\,- € / Person\, ermäßigt 3\,- € \nEine Anmeldung ist nicht erforderlich.
URL:https://geschichtswerkstatt-barmbek.de/termin/auf-den-spuren-der-bertinis-3/
LOCATION:Treff: Hufner- Ecke Hellbrookstraße gegenüber der HASPA
CATEGORIES:Rundgänge
ATTACH;FMTTYPE=image/jpeg:https://geschichtswerkstatt-barmbek.de/wp-content/uploads/2025/03/Bertini.jpg
END:VEVENT
END:VCALENDAR