BEGIN:VCALENDAR
VERSION:2.0
PRODID:-//Geschichtswerkstatt Barmbek, Geschichte lebendig erleben. - ECPv6.15.20//NONSGML v1.0//EN
CALSCALE:GREGORIAN
METHOD:PUBLISH
X-WR-CALNAME:Geschichtswerkstatt Barmbek, Geschichte lebendig erleben.
X-ORIGINAL-URL:https://geschichtswerkstatt-barmbek.de
X-WR-CALDESC:Veranstaltungen für Geschichtswerkstatt Barmbek, Geschichte lebendig erleben.
REFRESH-INTERVAL;VALUE=DURATION:PT1H
X-Robots-Tag:noindex
X-PUBLISHED-TTL:PT1H
BEGIN:VTIMEZONE
TZID:Europe/Berlin
BEGIN:DAYLIGHT
TZOFFSETFROM:+0100
TZOFFSETTO:+0200
TZNAME:CEST
DTSTART:20250330T010000
END:DAYLIGHT
BEGIN:STANDARD
TZOFFSETFROM:+0200
TZOFFSETTO:+0100
TZNAME:CET
DTSTART:20251026T010000
END:STANDARD
BEGIN:DAYLIGHT
TZOFFSETFROM:+0100
TZOFFSETTO:+0200
TZNAME:CEST
DTSTART:20260329T010000
END:DAYLIGHT
BEGIN:STANDARD
TZOFFSETFROM:+0200
TZOFFSETTO:+0100
TZNAME:CET
DTSTART:20261025T010000
END:STANDARD
BEGIN:DAYLIGHT
TZOFFSETFROM:+0100
TZOFFSETTO:+0200
TZNAME:CEST
DTSTART:20270328T010000
END:DAYLIGHT
BEGIN:STANDARD
TZOFFSETFROM:+0200
TZOFFSETTO:+0100
TZNAME:CET
DTSTART:20271031T010000
END:STANDARD
END:VTIMEZONE
BEGIN:VEVENT
DTSTART;TZID=Europe/Berlin:20260423T180000
DTEND;TZID=Europe/Berlin:20260423T200000
DTSTAMP:20260423T125231
CREATED:20260414T130542Z
LAST-MODIFIED:20260414T131201Z
UID:22987-1776967200-1776974400@geschichtswerkstatt-barmbek.de
SUMMARY:Filmische Spurensuche zu Zwangsarbeit in der NS-Zeit in Hamburg
DESCRIPTION:Einführung durch den Filmemacher Jürgen Kinter\nmit Michael Grill \nGemeinsame Veranstaltung der Geschichtswerkstatt Barmbek und Hilldegarden e.V. \n\nNach über 60 Jahren besuchen ehemalige Zwangsarbeiter*innen aus der Ukraine und Russland erstmals wieder Hamburg\, wo sie im 2. Weltkrieg Zwangsarbeit leisten mussten. Die Filme dokumentieren ihre Geschichte begleiten sie an einiger Orte an denen sie als sog. Ostarbeiter eingesetzt und untergebracht waren. \nEs werden zwei Videofilme von Jürgen Kinter gezeigt\, die im Auftrag und in Zusammenarbeit mit dem Freundeskreis KZ-Gedenkstätte Neuengamme entstanden.\nHamburg 2012 \nMit dieser Veranstaltung soll die Erinnerung an die lange verdrängte Geschichte der Zwangsarbeit in Hamburg an einigen Beispielen wachgehalten werden. \nDer Filmemacher Jürgen Kinter wird in die Entstehung der Filme einführen. \n\nAnmelden unter anmeldung@hilldegarden.org \n 
URL:https://geschichtswerkstatt-barmbek.de/termin/filmische-spurensuche-zu-zwangsarbeit-in-der-ns-zeit-in-hamburg/
LOCATION:Bunker Feldstrasse 66\, Vereinsräume Hilldegarden\, Level 4\, entweder über den Bergpfad oder nach Absprache über den Aufzug (dann barrierefrei zugänglich).
ATTACH;FMTTYPE=image/jpeg:https://geschichtswerkstatt-barmbek.de/wp-content/uploads/2026/01/Zur_Zwangsarbeit_nach_Hamburg_reservierung.jpg
END:VEVENT
END:VCALENDAR