BEGIN:VCALENDAR
VERSION:2.0
PRODID:-//Geschichtswerkstatt Barmbek, Geschichte lebendig erleben. - ECPv6.15.20//NONSGML v1.0//EN
CALSCALE:GREGORIAN
METHOD:PUBLISH
X-WR-CALNAME:Geschichtswerkstatt Barmbek, Geschichte lebendig erleben.
X-ORIGINAL-URL:https://geschichtswerkstatt-barmbek.de
X-WR-CALDESC:Veranstaltungen für Geschichtswerkstatt Barmbek, Geschichte lebendig erleben.
REFRESH-INTERVAL;VALUE=DURATION:PT1H
X-Robots-Tag:noindex
X-PUBLISHED-TTL:PT1H
BEGIN:VTIMEZONE
TZID:Europe/Berlin
BEGIN:DAYLIGHT
TZOFFSETFROM:+0100
TZOFFSETTO:+0200
TZNAME:CEST
DTSTART:20250330T010000
END:DAYLIGHT
BEGIN:STANDARD
TZOFFSETFROM:+0200
TZOFFSETTO:+0100
TZNAME:CET
DTSTART:20251026T010000
END:STANDARD
BEGIN:DAYLIGHT
TZOFFSETFROM:+0100
TZOFFSETTO:+0200
TZNAME:CEST
DTSTART:20260329T010000
END:DAYLIGHT
BEGIN:STANDARD
TZOFFSETFROM:+0200
TZOFFSETTO:+0100
TZNAME:CET
DTSTART:20261025T010000
END:STANDARD
BEGIN:DAYLIGHT
TZOFFSETFROM:+0100
TZOFFSETTO:+0200
TZNAME:CEST
DTSTART:20270328T010000
END:DAYLIGHT
BEGIN:STANDARD
TZOFFSETFROM:+0200
TZOFFSETTO:+0100
TZNAME:CET
DTSTART:20271031T010000
END:STANDARD
END:VTIMEZONE
BEGIN:VEVENT
DTSTART;TZID=Europe/Berlin:20260303T140000
DTEND;TZID=Europe/Berlin:20260303T180000
DTSTAMP:20260425T133512
CREATED:20260217T135510Z
LAST-MODIFIED:20260224T133336Z
UID:22789-1772546400-1772560800@geschichtswerkstatt-barmbek.de
SUMMARY:Keine Beratungsstunden - fallen heute leider aus
DESCRIPTION:Die Beratungszeit fällt heute leider aus. Ab nächste Woche sind wir wieder für Sie und euch da.  \nBeratungszeit in der GeschichtswerkstattJeden Dienstag\, 14–18 Uhr \nUnsere Tür steht offen – komm einfach vorbei / kommen Sie gerne vorbei! Während unserer offenen Beratungszeit könnt Ihr / können Sie hereinschauen\, Fragen stellen\, stöbern oder mit uns ins Gespräch kommen. \nMan kann:– in unseren Publikationen blättern\, sie anfassen und kaufen– eigene Erinnerungsstücke oder Archivgut mitbringen– zur Geschichte des Stadtteils recherchieren– sich informieren\, austauschen\, erzählen \nOb du etwas wissen möchtest oder selbst etwas beitragen kannst – oder ob Sie etwas wissen möchten oder etwas beitragen können: Wir freuen uns auf deinen / Ihren Besuch!
URL:https://geschichtswerkstatt-barmbek.de/termin/beratungsstunden-heute-leider-geschlossen/
LOCATION:Geschichtswerkstatt Barmbek\, Wiesendamm 25\, Hamburg\, 22305\, Germany
END:VEVENT
BEGIN:VEVENT
DTSTART;TZID=Europe/Berlin:20260305T190000
DTEND;TZID=Europe/Berlin:20260305T210000
DTSTAMP:20260425T133512
CREATED:20260102T140809Z
LAST-MODIFIED:20260110T150247Z
UID:21851-1772737200-1772744400@geschichtswerkstatt-barmbek.de
SUMMARY:Lesung: Die Barmbeker Fischindustrie zwischen Volksernährung\, Zwangsarbeit und Frauenbeschäftigung
DESCRIPTION:Im Rahmen der Woche des Gedenkens 2026 widmen sich Michael Grill und Bente Schneider in einer Lesung der bislang wenig bekannten Geschichte der Barmbeker Fischindustrie während der Zeit des Nationalsozialismus. Im Mittelpunkt steht dabei das Thema Zwangsarbeit. \nAusgehend von der nationalsozialistischen Zielsetzung\, die Bevölkerung mit ausreichend und möglichst billigem Eiweiß zu versorgen\, wird gezeigt\, welche Rolle die Fischindustrie in diesem Zusammenhang spielte. Deutlich wird dabei\, dass diese Form der Versorgung – wie auch in anderen Bereichen – ohne den Einsatz von Zwangsarbeit nicht möglich gewesen wäre. \nDie Lesung basiert auf zeitgenössischen Dokumenten und Interviews\, die vorgetragen und durch Visualisierungen ergänzt werden. Ein besonderer Schwerpunkt liegt auf der Situation der Zwangsarbeiterinnen in den Barmbeker Fischfabriken. Biografische Einblicke machen ihre Lebens- und Arbeitsbedingungen sichtbar und rücken ihre bislang kaum beachteten Erfahrungen in den Mittelpunkt. \nDie Teilnahme ist kostenlos. Eine Anmeldung nicht erforderlich.
URL:https://geschichtswerkstatt-barmbek.de/termin/lesung-die-barmbeker-fischindustrie-zwischen-volksernaehrung-zwangsarbeit-und-frauenbeschaeftigung/
LOCATION:Café Schmidtchen\, Friedrichsberger Str. 66\, Hamburg\, 22081\, Germany
CATEGORIES:Lesungen
END:VEVENT
BEGIN:VEVENT
DTSTART;TZID=Europe/Berlin:20260310T140000
DTEND;TZID=Europe/Berlin:20260310T180000
DTSTAMP:20260425T133512
CREATED:20260217T140242Z
LAST-MODIFIED:20260217T140242Z
UID:22791-1773151200-1773165600@geschichtswerkstatt-barmbek.de
SUMMARY:Beratungsstunden
DESCRIPTION:Beratungszeit in der GeschichtswerkstattJeden Dienstag\, 14–18 Uhr \nUnsere Tür steht offen – komm einfach vorbei / kommen Sie gerne vorbei! Während unserer offenen Beratungszeit könnt Ihr / können Sie hereinschauen\, Fragen stellen\, stöbern oder mit uns ins Gespräch kommen. \nMan kann:– in unseren Publikationen blättern\, sie anfassen und kaufen– eigene Erinnerungsstücke oder Archivgut mitbringen– zur Geschichte des Stadtteils recherchieren– sich informieren\, austauschen\, erzählen \nOb du etwas wissen möchtest oder selbst etwas beitragen kannst – oder ob Sie etwas wissen möchten oder etwas beitragen können: Wir freuen uns auf deinen / Ihren Besuch!
URL:https://geschichtswerkstatt-barmbek.de/termin/beratungsstunden-32/
LOCATION:Geschichtswerkstatt Barmbek\, Wiesendamm 25\, Hamburg\, 22305\, Germany
END:VEVENT
BEGIN:VEVENT
DTSTART;TZID=Europe/Berlin:20260317T140000
DTEND;TZID=Europe/Berlin:20260317T180000
DTSTAMP:20260425T133512
CREATED:20260217T140957Z
LAST-MODIFIED:20260217T141010Z
UID:22793-1773756000-1773770400@geschichtswerkstatt-barmbek.de
SUMMARY:Beratungsstunden
DESCRIPTION:Beratungszeit in der GeschichtswerkstattJeden Dienstag\, 14–18 Uhr \nUnsere Tür steht offen – komm einfach vorbei / kommen Sie gerne vorbei! Während unserer offenen Beratungszeit könnt Ihr / können Sie hereinschauen\, Fragen stellen\, stöbern oder mit uns ins Gespräch kommen. \nMan kann:– in unseren Publikationen blättern\, sie anfassen und kaufen– eigene Erinnerungsstücke oder Archivgut mitbringen– zur Geschichte des Stadtteils recherchieren– sich informieren\, austauschen\, erzählen \nOb du etwas wissen möchtest oder selbst etwas beitragen kannst – oder ob Sie etwas wissen möchten oder etwas beitragen können: Wir freuen uns auf deinen / Ihren Besuch!
URL:https://geschichtswerkstatt-barmbek.de/termin/beratungsstunden-copy/
LOCATION:Geschichtswerkstatt Barmbek\, Wiesendamm 25\, Hamburg\, 22305\, Germany
END:VEVENT
BEGIN:VEVENT
DTSTART;TZID=Europe/Berlin:20260324T140000
DTEND;TZID=Europe/Berlin:20260324T180000
DTSTAMP:20260425T133512
CREATED:20260217T141123Z
LAST-MODIFIED:20260217T141123Z
UID:22796-1774360800-1774375200@geschichtswerkstatt-barmbek.de
SUMMARY:Beratungsstunden
DESCRIPTION:Beratungszeit in der GeschichtswerkstattJeden Dienstag\, 14–18 Uhr \nUnsere Tür steht offen – komm einfach vorbei / kommen Sie gerne vorbei! Während unserer offenen Beratungszeit könnt Ihr / können Sie hereinschauen\, Fragen stellen\, stöbern oder mit uns ins Gespräch kommen. \nMan kann:– in unseren Publikationen blättern\, sie anfassen und kaufen– eigene Erinnerungsstücke oder Archivgut mitbringen– zur Geschichte des Stadtteils recherchieren– sich informieren\, austauschen\, erzählen \nOb du etwas wissen möchtest oder selbst etwas beitragen kannst – oder ob Sie etwas wissen möchten oder etwas beitragen können: Wir freuen uns auf deinen / Ihren Besuch!
URL:https://geschichtswerkstatt-barmbek.de/termin/beratungsstunden-33/
LOCATION:Geschichtswerkstatt Barmbek\, Wiesendamm 25\, Hamburg\, 22305\, Germany
END:VEVENT
BEGIN:VEVENT
DTSTART;TZID=Europe/Berlin:20260331T140000
DTEND;TZID=Europe/Berlin:20260331T180000
DTSTAMP:20260425T133512
CREATED:20260217T141545Z
LAST-MODIFIED:20260217T141545Z
UID:22798-1774965600-1774980000@geschichtswerkstatt-barmbek.de
SUMMARY:Beratungsstunden
DESCRIPTION:Beratungszeit in der GeschichtswerkstattJeden Dienstag\, 14–18 Uhr \nUnsere Tür steht offen – komm einfach vorbei / kommen Sie gerne vorbei! Während unserer offenen Beratungszeit könnt Ihr / können Sie hereinschauen\, Fragen stellen\, stöbern oder mit uns ins Gespräch kommen. \nMan kann:– in unseren Publikationen blättern\, sie anfassen und kaufen– eigene Erinnerungsstücke oder Archivgut mitbringen– zur Geschichte des Stadtteils recherchieren– sich informieren\, austauschen\, erzählen \nOb du etwas wissen möchtest oder selbst etwas beitragen kannst – oder ob Sie etwas wissen möchten oder etwas beitragen können: Wir freuen uns auf deinen / Ihren Besuch!
URL:https://geschichtswerkstatt-barmbek.de/termin/beratungsstunden-34/
LOCATION:Geschichtswerkstatt Barmbek\, Wiesendamm 25\, Hamburg\, 22305\, Germany
END:VEVENT
END:VCALENDAR